BEGIN:VCALENDAR
VERSION:2.0
PRODID:-//Adelphotis  Arahoviton  &quot;Ai  Karyai&quot; - ECPv6.15.20//NONSGML v1.0//EN
CALSCALE:GREGORIAN
METHOD:PUBLISH
X-WR-CALNAME:Adelphotis  Arahoviton  &quot;Ai  Karyai&quot;
X-ORIGINAL-URL:https://karyai.com
X-WR-CALDESC:Events for Adelphotis  Arahoviton  &quot;Ai  Karyai&quot;
REFRESH-INTERVAL;VALUE=DURATION:PT1H
X-Robots-Tag:noindex
X-PUBLISHED-TTL:PT1H
BEGIN:VTIMEZONE
TZID:America/Toronto
BEGIN:DAYLIGHT
TZOFFSETFROM:-0500
TZOFFSETTO:-0400
TZNAME:EDT
DTSTART:20240310T070000
END:DAYLIGHT
BEGIN:STANDARD
TZOFFSETFROM:-0400
TZOFFSETTO:-0500
TZNAME:EST
DTSTART:20241103T060000
END:STANDARD
BEGIN:DAYLIGHT
TZOFFSETFROM:-0500
TZOFFSETTO:-0400
TZNAME:EDT
DTSTART:20250309T070000
END:DAYLIGHT
BEGIN:STANDARD
TZOFFSETFROM:-0400
TZOFFSETTO:-0500
TZNAME:EST
DTSTART:20251102T060000
END:STANDARD
BEGIN:DAYLIGHT
TZOFFSETFROM:-0500
TZOFFSETTO:-0400
TZNAME:EDT
DTSTART:20260308T070000
END:DAYLIGHT
BEGIN:STANDARD
TZOFFSETFROM:-0400
TZOFFSETTO:-0500
TZNAME:EST
DTSTART:20261101T060000
END:STANDARD
END:VTIMEZONE
BEGIN:VEVENT
DTSTART;VALUE=DATE:20250525
DTEND;VALUE=DATE:20250526
DTSTAMP:20260424T070552
CREATED:20250308T154401Z
LAST-MODIFIED:20260225T203109Z
UID:682-1748131200-1748217599@karyai.com
SUMMARY:Opening of Park/Picnic & Memorial Service - 2025
DESCRIPTION:The official opening of Karyai Park is held on the last Sunday in May\, which also celebrates St. Konstantino and St. Eleni. On this day\, members and friends of Adelphotis Arahoviton have a picnic at the park\, a memorial service at the chapel for family and friends who have passed away and also do a major clean-up of the entire park after the long winter.  There is always a tremendous amount of work to be done to make the park look as good as it does and the Association is grateful to all those in attendance for their hard work.
URL:https://karyai.com/events/opening-of-park-picnic-memorial-service-2025/
LOCATION:Karyai Park\, 5932 Concession Road 2 Sunnidale\, Clearview\, Ontario\, Canada
CATEGORIES:2025
ATTACH;FMTTYPE=image/png:https://karyai.com/wp-content/uploads/2014/07/eventsBannerOpening.png
ORGANIZER;CN="Adelphotis Arahoviton%2C 'Ai Karyai'":MAILTO:info@karyai.com
END:VEVENT
END:VCALENDAR