BEGIN:VCALENDAR
VERSION:2.0
PRODID:-//Adelphotis  Arahoviton  &quot;Ai  Karyai&quot; - ECPv6.15.20//NONSGML v1.0//EN
CALSCALE:GREGORIAN
METHOD:PUBLISH
X-WR-CALNAME:Adelphotis  Arahoviton  &quot;Ai  Karyai&quot;
X-ORIGINAL-URL:https://karyai.com
X-WR-CALDESC:Events for Adelphotis  Arahoviton  &quot;Ai  Karyai&quot;
REFRESH-INTERVAL;VALUE=DURATION:PT1H
X-Robots-Tag:noindex
X-PUBLISHED-TTL:PT1H
BEGIN:VTIMEZONE
TZID:America/Toronto
BEGIN:DAYLIGHT
TZOFFSETFROM:-0500
TZOFFSETTO:-0400
TZNAME:EDT
DTSTART:20240310T070000
END:DAYLIGHT
BEGIN:STANDARD
TZOFFSETFROM:-0400
TZOFFSETTO:-0500
TZNAME:EST
DTSTART:20241103T060000
END:STANDARD
BEGIN:DAYLIGHT
TZOFFSETFROM:-0500
TZOFFSETTO:-0400
TZNAME:EDT
DTSTART:20250309T070000
END:DAYLIGHT
BEGIN:STANDARD
TZOFFSETFROM:-0400
TZOFFSETTO:-0500
TZNAME:EST
DTSTART:20251102T060000
END:STANDARD
BEGIN:DAYLIGHT
TZOFFSETFROM:-0500
TZOFFSETTO:-0400
TZNAME:EDT
DTSTART:20260308T070000
END:DAYLIGHT
BEGIN:STANDARD
TZOFFSETFROM:-0400
TZOFFSETTO:-0500
TZNAME:EST
DTSTART:20261101T060000
END:STANDARD
END:VTIMEZONE
BEGIN:VEVENT
DTSTART;VALUE=DATE:20251130
DTEND;VALUE=DATE:20251201
DTSTAMP:20260423T203341
CREATED:20250308T155018Z
LAST-MODIFIED:20260225T193250Z
UID:689-1764460800-1764547199@karyai.com
SUMMARY:Children’s Christmas Party at Extreme Fun Indoor Playground (Members only) - 2025
DESCRIPTION:This year’s Children’s Christmas Party will be held on Sunday\, November 30th.\nTo become a member please contact Bill at billmtoronto@yahoo.ca or 647-228-0897
URL:https://karyai.com/events/childrens-christmas-party-at-extreme-fun-indoor-playground-members-only-2025/
LOCATION:Extreme Fun Indoor Playground\, 186 Bartley Drive\, Toronto\, ON\, M4A 1E7
CATEGORIES:2025
ATTACH;FMTTYPE=image/png:https://karyai.com/wp-content/uploads/2014/07/eventsBannerChdChristmas.png
ORGANIZER;CN="Adelphotis Arahoviton%2C 'Ai Karyai'":MAILTO:info@karyai.com
END:VEVENT
END:VCALENDAR