BEGIN:VCALENDAR
VERSION:2.0
PRODID:-//Adelphotis  Arahoviton  &quot;Ai  Karyai&quot; - ECPv6.15.20//NONSGML v1.0//EN
CALSCALE:GREGORIAN
METHOD:PUBLISH
X-ORIGINAL-URL:https://karyai.com
X-WR-CALDESC:Events for Adelphotis  Arahoviton  &quot;Ai  Karyai&quot;
REFRESH-INTERVAL;VALUE=DURATION:PT1H
X-Robots-Tag:noindex
X-PUBLISHED-TTL:PT1H
BEGIN:VTIMEZONE
TZID:America/Toronto
BEGIN:DAYLIGHT
TZOFFSETFROM:-0500
TZOFFSETTO:-0400
TZNAME:EDT
DTSTART:20150308T070000
END:DAYLIGHT
BEGIN:STANDARD
TZOFFSETFROM:-0400
TZOFFSETTO:-0500
TZNAME:EST
DTSTART:20151101T060000
END:STANDARD
BEGIN:DAYLIGHT
TZOFFSETFROM:-0500
TZOFFSETTO:-0400
TZNAME:EDT
DTSTART:20160313T070000
END:DAYLIGHT
BEGIN:STANDARD
TZOFFSETFROM:-0400
TZOFFSETTO:-0500
TZNAME:EST
DTSTART:20161106T060000
END:STANDARD
BEGIN:DAYLIGHT
TZOFFSETFROM:-0500
TZOFFSETTO:-0400
TZNAME:EDT
DTSTART:20170312T070000
END:DAYLIGHT
BEGIN:STANDARD
TZOFFSETFROM:-0400
TZOFFSETTO:-0500
TZNAME:EST
DTSTART:20171105T060000
END:STANDARD
BEGIN:DAYLIGHT
TZOFFSETFROM:-0500
TZOFFSETTO:-0400
TZNAME:EDT
DTSTART:20180311T070000
END:DAYLIGHT
BEGIN:STANDARD
TZOFFSETFROM:-0400
TZOFFSETTO:-0500
TZNAME:EST
DTSTART:20181104T060000
END:STANDARD
BEGIN:DAYLIGHT
TZOFFSETFROM:-0500
TZOFFSETTO:-0400
TZNAME:EDT
DTSTART:20190310T070000
END:DAYLIGHT
BEGIN:STANDARD
TZOFFSETFROM:-0400
TZOFFSETTO:-0500
TZNAME:EST
DTSTART:20191103T060000
END:STANDARD
BEGIN:DAYLIGHT
TZOFFSETFROM:-0500
TZOFFSETTO:-0400
TZNAME:EDT
DTSTART:20200308T070000
END:DAYLIGHT
BEGIN:STANDARD
TZOFFSETFROM:-0400
TZOFFSETTO:-0500
TZNAME:EST
DTSTART:20201101T060000
END:STANDARD
BEGIN:DAYLIGHT
TZOFFSETFROM:-0500
TZOFFSETTO:-0400
TZNAME:EDT
DTSTART:20210314T070000
END:DAYLIGHT
BEGIN:STANDARD
TZOFFSETFROM:-0400
TZOFFSETTO:-0500
TZNAME:EST
DTSTART:20211107T060000
END:STANDARD
END:VTIMEZONE
BEGIN:VEVENT
DTSTART;VALUE=DATE:20201129
DTEND;VALUE=DATE:20201130
DTSTAMP:20260423T161048
CREATED:20140703T183439Z
LAST-MODIFIED:20200209T200103Z
UID:37-1606608000-1606694399@karyai.com
SUMMARY:Children's Christmas Party
DESCRIPTION:This year’s Children’s Christmas Party will be held on Sunday\, November 29st\, 2020. Location to be announced closer to date.
URL:https://karyai.com/events/childrens-christmas-party/
CATEGORIES:Members Only
ATTACH;FMTTYPE=image/png:https://karyai.com/wp-content/uploads/2014/07/eventsBannerChdChristmas.png
ORGANIZER;CN="Adelphotis Arahoviton%2C 'Ai Karyai'":MAILTO:info@karyai.com
END:VEVENT
BEGIN:VEVENT
DTSTART;TZID=America/Toronto:20190526T150000
DTEND;TZID=America/Toronto:20190526T160000
DTSTAMP:20260423T161048
CREATED:20140716T140132Z
LAST-MODIFIED:20190418T001522Z
UID:127-1558882800-1558886400@karyai.com
SUMMARY:Annual General Meeting at Karyai Park
DESCRIPTION:We are holding our annual general meeting for members only on Sunday\, May 26\, 2019\, at Karyai Park.
URL:https://karyai.com/events/annual-general-meeting/
LOCATION:Karyai Park\, 5932 Concession Road 2 Sunnidale\, Clearview\, Ontario\, Canada
CATEGORIES:Members Only
ORGANIZER;CN="Adelphotis Arahoviton%2C 'Ai Karyai'":MAILTO:info@karyai.com
END:VEVENT
BEGIN:VEVENT
DTSTART;VALUE=DATE:20160515
DTEND;VALUE=DATE:20160516
DTSTAMP:20260423T161048
CREATED:20150423T162605Z
LAST-MODIFIED:20160124T214934Z
UID:305-1463270400-1463356799@karyai.com
SUMMARY:General Meeting
DESCRIPTION:We are holding our general meeting on Sunday\, May 16\, 2016\, location to be announced. 
URL:https://karyai.com/events/general-meeting-2/
LOCATION:Location to be announced at a later date
CATEGORIES:Members Only
ORGANIZER;CN="Adelphotis Arahoviton%2C 'Ai Karyai'":MAILTO:info@karyai.com
END:VEVENT
END:VCALENDAR