BEGIN:VCALENDAR
VERSION:2.0
PRODID:-//Adelphotis  Arahoviton  &quot;Ai  Karyai&quot; - ECPv6.15.20//NONSGML v1.0//EN
CALSCALE:GREGORIAN
METHOD:PUBLISH
X-WR-CALNAME:Adelphotis  Arahoviton  &quot;Ai  Karyai&quot;
X-ORIGINAL-URL:https://karyai.com
X-WR-CALDESC:Events for Adelphotis  Arahoviton  &quot;Ai  Karyai&quot;
REFRESH-INTERVAL;VALUE=DURATION:PT1H
X-Robots-Tag:noindex
X-PUBLISHED-TTL:PT1H
BEGIN:VTIMEZONE
TZID:America/Toronto
BEGIN:DAYLIGHT
TZOFFSETFROM:-0500
TZOFFSETTO:-0400
TZNAME:EDT
DTSTART:20250309T070000
END:DAYLIGHT
BEGIN:STANDARD
TZOFFSETFROM:-0400
TZOFFSETTO:-0500
TZNAME:EST
DTSTART:20251102T060000
END:STANDARD
BEGIN:DAYLIGHT
TZOFFSETFROM:-0500
TZOFFSETTO:-0400
TZNAME:EDT
DTSTART:20260308T070000
END:DAYLIGHT
BEGIN:STANDARD
TZOFFSETFROM:-0400
TZOFFSETTO:-0500
TZNAME:EST
DTSTART:20261101T060000
END:STANDARD
BEGIN:DAYLIGHT
TZOFFSETFROM:-0500
TZOFFSETTO:-0400
TZNAME:EDT
DTSTART:20270314T070000
END:DAYLIGHT
BEGIN:STANDARD
TZOFFSETFROM:-0400
TZOFFSETTO:-0500
TZNAME:EST
DTSTART:20271107T060000
END:STANDARD
END:VTIMEZONE
BEGIN:VEVENT
DTSTART;VALUE=DATE:20260524
DTEND;VALUE=DATE:20260525
DTSTAMP:20260423T191120
CREATED:20260225T200644Z
LAST-MODIFIED:20260225T203129Z
UID:733-1779580800-1779667199@karyai.com
SUMMARY:Opening of Park/Picnic - 2026
DESCRIPTION:The official opening of Karyai Park is held on the last Sunday in May\, which also celebrates St. Konstantino and St. Eleni. On this day\, members and friends of Adelphotis Arahoviton have a picnic at the park\, a memorial service at the chapel for family and friends who have passed away and also do a major clean-up of the entire park after the long winter.  There is always a tremendous amount of work to be done to make the park look as good as it does and the Association is grateful to all those in attendance for their hard work.
URL:https://karyai.com/events/opening-of-park-picnic-2026/
LOCATION:Karyai Park\, 5932 Concession Road 2 Sunnidale\, Clearview\, Ontario\, Canada
CATEGORIES:2026
ATTACH;FMTTYPE=image/png:https://karyai.com/wp-content/uploads/2014/07/eventsBannerOpening.png
ORGANIZER;CN="Adelphotis Arahoviton%2C 'Ai Karyai'":MAILTO:info@karyai.com
END:VEVENT
BEGIN:VEVENT
DTSTART;VALUE=DATE:20260726
DTEND;VALUE=DATE:20260727
DTSTAMP:20260423T191120
CREATED:20260225T201012Z
LAST-MODIFIED:20260225T202845Z
UID:737-1785024000-1785110399@karyai.com
SUMMARY:Annual Festival at Karyai Park - 2026
DESCRIPTION:The annual festival\, otherwise known as the “Panigyri\,” is held on the last weekend of July\, celebrating St. Paraskevi and St. Panteleimona with music\, dancing\, a variety of delicious food\, and fun for all.  This annual event corresponds with a similar two-day festival in Arahova (Karyes)\, Greece.
URL:https://karyai.com/events/annual-festival-at-karyai-park-2026/
LOCATION:Karyai Park\, 5932 Concession Road 2 Sunnidale\, Clearview\, Ontario\, Canada
CATEGORIES:2026
ATTACH;FMTTYPE=image/png:https://karyai.com/wp-content/uploads/2014/09/web-bannerKaryaiEvents-panigyri.png
ORGANIZER;CN="Adelphotis Arahoviton%2C 'Ai Karyai'":MAILTO:info@karyai.com
END:VEVENT
BEGIN:VEVENT
DTSTART;VALUE=DATE:20260913
DTEND;VALUE=DATE:20260914
DTSTAMP:20260423T191120
CREATED:20260225T201350Z
LAST-MODIFIED:20260225T202947Z
UID:739-1789257600-1789343999@karyai.com
SUMMARY:Corn Fest at Karyai Park - 2026
DESCRIPTION:Join us on Sunday\, September 13\, for a wonderful picnic at our Corn Roast.\nEvery year\, on the second Sunday of September at Karyai Park\, Adelphotis Arahoviton supplies and cooks freshly-picked Ontario corn on the cob and Ontario-grown potatoes.  Everyone brings a variety of food\, beverages and sweets which are shared and enjoyed by all who are present.
URL:https://karyai.com/events/corn-fest-at-karyai-park-2026/
LOCATION:Karyai Park\, 5932 Concession Road 2 Sunnidale\, Clearview\, Ontario\, Canada
CATEGORIES:2026
ATTACH;FMTTYPE=image/png:https://karyai.com/wp-content/uploads/2014/09/web-bannerKaryaiEvents-cornroast.png
ORGANIZER;CN="Adelphotis Arahoviton%2C 'Ai Karyai'":MAILTO:info@karyai.com
END:VEVENT
BEGIN:VEVENT
DTSTART;VALUE=DATE:20261129
DTEND;VALUE=DATE:20261130
DTSTAMP:20260423T191120
CREATED:20260225T201600Z
LAST-MODIFIED:20260225T221141Z
UID:743-1795910400-1795996799@karyai.com
SUMMARY:Children’s Christmas Party (Members only) - 2026
DESCRIPTION:This year’s Children’s Christmas Party will be held on Sunday\, November 29th. \nMembers only – To become a member please email info@karyai.com
URL:https://karyai.com/events/childrens-christmas-party-2026/
LOCATION:Extreme Fun Indoor Playground\, 186 Bartley Drive\, Toronto\, ON\, M4A 1E7
CATEGORIES:2026
ATTACH;FMTTYPE=image/png:https://karyai.com/wp-content/uploads/2014/07/eventsBannerChdChristmas.png
ORGANIZER;CN="Adelphotis Arahoviton%2C 'Ai Karyai'":MAILTO:info@karyai.com
END:VEVENT
END:VCALENDAR