BEGIN:VCALENDAR
VERSION:2.0
PRODID:-//Adelphotis  Arahoviton  &quot;Ai  Karyai&quot; - ECPv6.15.20//NONSGML v1.0//EN
CALSCALE:GREGORIAN
METHOD:PUBLISH
X-WR-CALNAME:Adelphotis  Arahoviton  &quot;Ai  Karyai&quot;
X-ORIGINAL-URL:https://karyai.com
X-WR-CALDESC:Events for Adelphotis  Arahoviton  &quot;Ai  Karyai&quot;
REFRESH-INTERVAL;VALUE=DURATION:PT1H
X-Robots-Tag:noindex
X-PUBLISHED-TTL:PT1H
BEGIN:VTIMEZONE
TZID:America/Toronto
BEGIN:DAYLIGHT
TZOFFSETFROM:-0500
TZOFFSETTO:-0400
TZNAME:EDT
DTSTART:20130310T070000
END:DAYLIGHT
BEGIN:STANDARD
TZOFFSETFROM:-0400
TZOFFSETTO:-0500
TZNAME:EST
DTSTART:20131103T060000
END:STANDARD
BEGIN:DAYLIGHT
TZOFFSETFROM:-0500
TZOFFSETTO:-0400
TZNAME:EDT
DTSTART:20140309T070000
END:DAYLIGHT
BEGIN:STANDARD
TZOFFSETFROM:-0400
TZOFFSETTO:-0500
TZNAME:EST
DTSTART:20141102T060000
END:STANDARD
BEGIN:DAYLIGHT
TZOFFSETFROM:-0500
TZOFFSETTO:-0400
TZNAME:EDT
DTSTART:20150308T070000
END:DAYLIGHT
BEGIN:STANDARD
TZOFFSETFROM:-0400
TZOFFSETTO:-0500
TZNAME:EST
DTSTART:20151101T060000
END:STANDARD
BEGIN:DAYLIGHT
TZOFFSETFROM:-0500
TZOFFSETTO:-0400
TZNAME:EDT
DTSTART:20160313T070000
END:DAYLIGHT
BEGIN:STANDARD
TZOFFSETFROM:-0400
TZOFFSETTO:-0500
TZNAME:EST
DTSTART:20161106T060000
END:STANDARD
BEGIN:DAYLIGHT
TZOFFSETFROM:-0500
TZOFFSETTO:-0400
TZNAME:EDT
DTSTART:20170312T070000
END:DAYLIGHT
BEGIN:STANDARD
TZOFFSETFROM:-0400
TZOFFSETTO:-0500
TZNAME:EST
DTSTART:20171105T060000
END:STANDARD
BEGIN:DAYLIGHT
TZOFFSETFROM:-0500
TZOFFSETTO:-0400
TZNAME:EDT
DTSTART:20180311T070000
END:DAYLIGHT
BEGIN:STANDARD
TZOFFSETFROM:-0400
TZOFFSETTO:-0500
TZNAME:EST
DTSTART:20181104T060000
END:STANDARD
BEGIN:DAYLIGHT
TZOFFSETFROM:-0500
TZOFFSETTO:-0400
TZNAME:EDT
DTSTART:20190310T070000
END:DAYLIGHT
BEGIN:STANDARD
TZOFFSETFROM:-0400
TZOFFSETTO:-0500
TZNAME:EST
DTSTART:20191103T060000
END:STANDARD
BEGIN:DAYLIGHT
TZOFFSETFROM:-0500
TZOFFSETTO:-0400
TZNAME:EDT
DTSTART:20200308T070000
END:DAYLIGHT
BEGIN:STANDARD
TZOFFSETFROM:-0400
TZOFFSETTO:-0500
TZNAME:EST
DTSTART:20201101T060000
END:STANDARD
BEGIN:DAYLIGHT
TZOFFSETFROM:-0500
TZOFFSETTO:-0400
TZNAME:EDT
DTSTART:20210314T070000
END:DAYLIGHT
BEGIN:STANDARD
TZOFFSETFROM:-0400
TZOFFSETTO:-0500
TZNAME:EST
DTSTART:20211107T060000
END:STANDARD
END:VTIMEZONE
BEGIN:VEVENT
DTSTART;VALUE=DATE:20200920
DTEND;VALUE=DATE:20200921
DTSTAMP:20260424T055347
CREATED:20140703T183409Z
LAST-MODIFIED:20200209T195432Z
UID:36-1600560000-1600646399@karyai.com
SUMMARY:Corn Roast
DESCRIPTION:Join us on Sunday\,September 20\, 2020 for a wonderful picnic at our Corn Roast.\nEvery year\, on the second Sunday of September at Karyai Park\, Adelphotis Arahoviton supplies and cooks freshly-picked Ontario corn on the cob and Ontario-grown potatoes.  Everyone brings a variety of food\, beverages and sweets which are shared and enjoyed by all who are present.
URL:https://karyai.com/events/corn-roast/
LOCATION:Karyai Park\, 5932 Concession Road 2 Sunnidale\, Clearview\, Ontario\, Canada
ATTACH;FMTTYPE=image/png:https://karyai.com/wp-content/uploads/2014/09/web-bannerKaryaiEvents-cornroast.png
ORGANIZER;CN="Adelphotis Arahoviton%2C 'Ai Karyai'":MAILTO:info@karyai.com
END:VEVENT
BEGIN:VEVENT
DTSTART;VALUE=DATE:20200725
DTEND;VALUE=DATE:20200727
DTSTAMP:20260424T055347
CREATED:20140703T183346Z
LAST-MODIFIED:20230713T113610Z
UID:35-1595635200-1595807999@karyai.com
SUMMARY:Annual Festival (Panigyri) at Karyai Park
DESCRIPTION:﻿The annual two-day festival\, otherwise known as the “Panigyri\,” is held on the last weekend of July\, celebrating St. Paraskevi and St. Panteleimona with music\, dancing\,  a variety of delicious food\, and fun for all.  This annual event corresponds with a similar two-day festival in Arahova (Karyes)\, Greece. \n\nDURING THE PANIGYRI\, OUR BBQ\, BAR & CAFÉ WILL BE OFFERING                                                      DELICIOUS FOOD\, REFRESHMENTS & HOME-MADE DESSERTS\n\n\n\nMENU:\n\n\nSaturday\, 4:00 – 10:00 p.m. & Sunday\, 12:00 noon – 8:00 p.m.\n\n\nRoast Lamb\nHamburgers\n\n\nKokoretsi\nVeggie Burgers\n\n\nKontosouvli\nHot Dogs\n\n\nSouvlakia\nFries\n\n\nRoasted Whole Chickens\nChef Salads\n\n\nPDF Download (Greek)
URL:https://karyai.com/events/panigyri/
LOCATION:Karyai Park\, 5932 Concession Road 2 Sunnidale\, Clearview\, Ontario\, Canada
ATTACH;FMTTYPE=image/png:https://karyai.com/wp-content/uploads/2014/09/web-bannerKaryaiEvents-panigyri.png
ORGANIZER;CN="Adelphotis Arahoviton%2C 'Ai Karyai'":MAILTO:info@karyai.com
END:VEVENT
BEGIN:VEVENT
DTSTART;VALUE=DATE:20200524
DTEND;VALUE=DATE:20200525
DTSTAMP:20260424T055347
CREATED:20140703T183214Z
LAST-MODIFIED:20200209T200416Z
UID:34-1590278400-1590364799@karyai.com
SUMMARY:The Official Opening of Karyai Park
DESCRIPTION:The official opening of Karyai Park is held on the last Sunday in May\, which also celebrates St. Konstantino and St. Eleni.  On this day\, members and friends of Adelphotis Arahoviton have a picnic at the park\, a memorial service at the chapel for family and friends who have passed away and also do a major clean-up of the entire park after the long winter.  There is always a tremendous amount of work to be done to make the park look as good as it does and the Association is grateful to all those in attendance for their hard work.
URL:https://karyai.com/events/the-official-openning-of-the-park/
LOCATION:Karyai Park\, 5932 Concession Road 2 Sunnidale\, Clearview\, Ontario\, Canada
ATTACH;FMTTYPE=image/png:https://karyai.com/wp-content/uploads/2014/07/eventsBannerOpening.png
ORGANIZER;CN="Adelphotis Arahoviton%2C 'Ai Karyai'":MAILTO:info@karyai.com
END:VEVENT
BEGIN:VEVENT
DTSTART;VALUE=DATE:20200229
DTEND;VALUE=DATE:20200301
DTSTAMP:20260424T055347
CREATED:20140716T002713Z
LAST-MODIFIED:20200209T214109Z
UID:31-1582934400-1583020799@karyai.com
SUMMARY:Makaronada Dance
DESCRIPTION:Our next Makaronada Dance will be held on Saturday\, February 29\, 2020 at Parkview Manor. The reception starts at 6:00 p.m. followed by dinner at 7:30 p.m.\nThe Makaronada\, is a masquerade dinner dance celebrating the Lent period where we indulge in large platters of  traditionally cooked macaronia and prizes are given for best costumes to young and old; held 40 days before Easter. \nmore info (Greek)more info (English)
URL:https://karyai.com/events/the-makaronada-dance/
LOCATION:Parkview Manor\, 55 Barber Green Rd #1\, Toronto\, Ontario\, M3C 2A1\, Canada
ATTACH;FMTTYPE=image/png:https://karyai.com/wp-content/uploads/2014/07/eventsBannerMakaronada.png
ORGANIZER;CN="Adelphotis Arahoviton%2C 'Ai Karyai'":MAILTO:info@karyai.com
END:VEVENT
BEGIN:VEVENT
DTSTART;TZID=America/Toronto:20190526T150000
DTEND;TZID=America/Toronto:20190526T160000
DTSTAMP:20260424T055347
CREATED:20140716T140132Z
LAST-MODIFIED:20190418T001522Z
UID:127-1558882800-1558886400@karyai.com
SUMMARY:Annual General Meeting at Karyai Park
DESCRIPTION:We are holding our annual general meeting for members only on Sunday\, May 26\, 2019\, at Karyai Park.
URL:https://karyai.com/events/annual-general-meeting/
LOCATION:Karyai Park\, 5932 Concession Road 2 Sunnidale\, Clearview\, Ontario\, Canada
CATEGORIES:Members Only
ORGANIZER;CN="Adelphotis Arahoviton%2C 'Ai Karyai'":MAILTO:info@karyai.com
END:VEVENT
BEGIN:VEVENT
DTSTART;VALUE=DATE:20160515
DTEND;VALUE=DATE:20160516
DTSTAMP:20260424T055347
CREATED:20150423T162605Z
LAST-MODIFIED:20160124T214934Z
UID:305-1463270400-1463356799@karyai.com
SUMMARY:General Meeting
DESCRIPTION:We are holding our general meeting on Sunday\, May 16\, 2016\, location to be announced. 
URL:https://karyai.com/events/general-meeting-2/
LOCATION:Location to be announced at a later date
CATEGORIES:Members Only
ORGANIZER;CN="Adelphotis Arahoviton%2C 'Ai Karyai'":MAILTO:info@karyai.com
END:VEVENT
BEGIN:VEVENT
DTSTART;TZID=America/Toronto:20141116T150000
DTEND;TZID=America/Toronto:20141116T170000
DTSTAMP:20260424T055347
CREATED:20141024T171654Z
LAST-MODIFIED:20151120T173236Z
UID:276-1416150000-1416157200@karyai.com
SUMMARY:
DESCRIPTION:The General Meeting will be held on Sunday\, November 16\, 2014 from 3:00 to 5:00 p.m. at the Pan-Macedonian Association of Ontario\, 406 Danforth Avenue (2nd Floor)\, Toronto.
URL:https://karyai.com/events/general-meeting2/
LOCATION:Pan-Macedonian Association of Ontario\, 406 Danforth Avenue (2nd Floor)\, Toronto\, Ontario\, M4K 1P3\, Canada
ORGANIZER;CN="Adelphotis Arahoviton%2C 'Ai Karyai'":MAILTO:info@karyai.com
END:VEVENT
END:VCALENDAR